BEGIN:VCALENDAR
VERSION:2.0
PRODID:-//The Horse Ranch - ECPv6.0.1.1//NONSGML v1.0//EN
CALSCALE:GREGORIAN
METHOD:PUBLISH
X-ORIGINAL-URL:https://thehorseranch.com
X-WR-CALDESC:Events for The Horse Ranch
REFRESH-INTERVAL;VALUE=DURATION:PT1H
X-Robots-Tag:noindex
X-PUBLISHED-TTL:PT1H
BEGIN:VTIMEZONE
TZID:America/Fort_Nelson
BEGIN:STANDARD
TZOFFSETFROM:-0700
TZOFFSETTO:-0700
TZNAME:MST
DTSTART:20240101T000000
END:STANDARD
END:VTIMEZONE
BEGIN:VEVENT
DTSTART;TZID=America/Fort_Nelson:20240809T090000
DTEND;TZID=America/Fort_Nelson:20240812T170000
DTSTAMP:20260421T113633
CREATED:20221014T003748Z
LAST-MODIFIED:20231102T225856Z
UID:43317-1723194000-1723482000@thehorseranch.com
SUMMARY:Horsemanship Clinic - Skagway\, Alaska\, USA
DESCRIPTION:August 9-12 Stage 1 and above workshop \nGlenn Stewart returns to Skagway. Please contact the clinic host to be a participate in the clinic or to audit – livetoridequarters@yahoo.com \n  \n  \n  \n 
URL:https://thehorseranch.com/event/horsemanship-clinic-skagway-alaska-usa/
LOCATION:Riverside Stables\, Skagway Alaska
END:VEVENT
END:VCALENDAR