BEGIN:VCALENDAR
VERSION:2.0
PRODID:-//The Horse Ranch - ECPv6.0.1.1//NONSGML v1.0//EN
CALSCALE:GREGORIAN
METHOD:PUBLISH
X-WR-CALNAME:The Horse Ranch
X-ORIGINAL-URL:https://thehorseranch.com
X-WR-CALDESC:Events for The Horse Ranch
REFRESH-INTERVAL;VALUE=DURATION:PT1H
X-Robots-Tag:noindex
X-PUBLISHED-TTL:PT1H
BEGIN:VTIMEZONE
TZID:America/Vancouver
BEGIN:DAYLIGHT
TZOFFSETFROM:-0800
TZOFFSETTO:-0700
TZNAME:PDT
DTSTART:20190310T100000
END:DAYLIGHT
BEGIN:STANDARD
TZOFFSETFROM:-0700
TZOFFSETTO:-0800
TZNAME:PST
DTSTART:20191103T090000
END:STANDARD
TZID:America/Toronto
BEGIN:DAYLIGHT
TZOFFSETFROM:-0500
TZOFFSETTO:-0400
TZNAME:EDT
DTSTART:20190310T070000
END:DAYLIGHT
BEGIN:STANDARD
TZOFFSETFROM:-0400
TZOFFSETTO:-0500
TZNAME:EST
DTSTART:20191103T060000
END:STANDARD
TZID:America/Edmonton
BEGIN:DAYLIGHT
TZOFFSETFROM:-0700
TZOFFSETTO:-0600
TZNAME:MDT
DTSTART:20190310T090000
END:DAYLIGHT
BEGIN:STANDARD
TZOFFSETFROM:-0600
TZOFFSETTO:-0700
TZNAME:MST
DTSTART:20191103T080000
END:STANDARD
END:VTIMEZONE
BEGIN:VEVENT
DTSTART;VALUE=DATE:20190605
DTEND;VALUE=DATE:20190609
DTSTAMP:20260420T225809
CREATED:20190401T230243Z
LAST-MODIFIED:20190401T230243Z
UID:811-1559692800-1560038399@thehorseranch.com
SUMMARY:Natural Horsemanship Camp Stage 1
DESCRIPTION:  \nThis is a Natural Horsemanship Foundation Camp\, where it all begins. Relevant to all levels of riders and experience levels from beginner to advanced\, and all disciplines .The Natural Horsemanship Program that Glenn teaches is designed to teach the intangibles….focus \,feel\, timing\, and savvy-the things most people think cannot be learned .Learn the essence of communication and excellence with horses that will continue to unfold for years to come .
URL:https://thehorseranch.com/event/natural-horsemanship-camp-stage-1/
LOCATION:The Horse Ranch Baldonnel BC
END:VEVENT
BEGIN:VEVENT
DTSTART;TZID=America/Toronto:20190508T180000
DTEND;TZID=America/Toronto:20190508T210000
DTSTAMP:20260420T225809
CREATED:20190401T202110Z
LAST-MODIFIED:20190401T202110Z
UID:803-1557338400-1557349200@thehorseranch.com
SUMMARY:Perspective Thoughts Discussion
DESCRIPTION:Glenn Stewart is offering a special night before the clinic to have a deep discussion on perspective thoughts . \nGlenn will discuss how this applies to your horsemanship and in every day life .
URL:https://thehorseranch.com/event/perspective-thoughts-discussion/
LOCATION:West Meadow Farm
END:VEVENT
BEGIN:VEVENT
DTSTART;VALUE=DATE:20190426
DTEND;VALUE=DATE:20190430
DTSTAMP:20260420T225809
CREATED:20190401T190812Z
LAST-MODIFIED:20190401T190812Z
UID:787-1556236800-1556582399@thehorseranch.com
SUMMARY:Stage 1 Clinic & Advanced Workshop Clinic Terrace BC
DESCRIPTION:Stage 1 Clinic  9 am -4:30 pm  April 26th -27th 2019 { Fri & Sat } \nThis Clinic is where ‘horse savvy’ begins\, creating a positive balance of trust and respect\, eliminating common problems and safety issues .Students will begin to develop and achieve an understanding of horse psychology and have a chance to put them to practice with hands on help . \n  \nAdvanced Workshop Clinic 9am -4:30 pm April 28th -April 29 th 2019 {Sun-Mon } \nThis clinic is open to those who have recently participated in a Stage 1 clinic and are comfortable riding in a halter. Focus will be on individual problems the rider is experiencing at the stage he/she is at with their horse. \nThis clinic is intended to help you continue your horsemanship through Glenn’s stages program. Glenn will try to accommodate riders at their various levels of learning and include exercises that will benefit everyone and their horse.
URL:https://thehorseranch.com/event/stage-1-clinic-advanced-workshop-clinic-terrace-bc/
LOCATION:Thornhill Community Grounds Thornhil/Terrace BC
END:VEVENT
BEGIN:VEVENT
DTSTART;VALUE=DATE:20190404
DTEND;VALUE=DATE:20190408
DTSTAMP:20260420T225809
CREATED:20190401T195725Z
LAST-MODIFIED:20190401T195725Z
UID:800-1554336000-1554681599@thehorseranch.com
SUMMARY:Private Family Stage 1 Clinic Mission Stables
DESCRIPTION:Private Family Clinic with Buffy & Chris Afseth  and Family
URL:https://thehorseranch.com/event/private-family-stage-1-clinic-mission-stables/
LOCATION:Mission Acres\, Cochrane AB
END:VEVENT
BEGIN:VEVENT
DTSTART;VALUE=DATE:20190329
DTEND;VALUE=DATE:20190402
DTSTAMP:20260420T225809
CREATED:20190401T184251Z
LAST-MODIFIED:20231120T202054Z
UID:781-1553817600-1554163199@thehorseranch.com
SUMMARY:Horsemanship Clinic & Workshop
DESCRIPTION:Advanced Stage 1 & 2  9am-12pm \nThis Clinic is open to all students who want to improve their Horsemanship Skills . \n  \nWorkshop  1:30 pm – 4:30 pm \nThis Workshop is for students who want to advance their Horsemanship Skills \nand have participated in a Stage 1\,2 or higher clinic.
URL:https://thehorseranch.com/event/horsemanship-clinic-workshop/
LOCATION:Cochrane Ag Society Arena
END:VEVENT
END:VCALENDAR