BEGIN:VCALENDAR
VERSION:2.0
PRODID:-//The Horse Ranch - ECPv6.0.1.1//NONSGML v1.0//EN
CALSCALE:GREGORIAN
METHOD:PUBLISH
X-WR-CALNAME:The Horse Ranch
X-ORIGINAL-URL:https://thehorseranch.com
X-WR-CALDESC:Events for The Horse Ranch
REFRESH-INTERVAL;VALUE=DURATION:PT1H
X-Robots-Tag:noindex
X-PUBLISHED-TTL:PT1H
BEGIN:VTIMEZONE
TZID:America/Fort_Nelson
BEGIN:STANDARD
TZOFFSETFROM:-0700
TZOFFSETTO:-0700
TZNAME:MST
DTSTART:20260101T000000
END:STANDARD
END:VTIMEZONE
BEGIN:VEVENT
DTSTART;VALUE=DATE:20261002
DTEND;VALUE=DATE:20261005
DTSTAMP:20260421T204135
CREATED:20220309T230905Z
LAST-MODIFIED:20260421T225741Z
UID:43161-1790899200-1791158399@thehorseranch.com
SUMMARY:Horsemanship Clinic - Mission Acres - Cochrane AB
DESCRIPTION:October 2-4\, 2026 Stage 1 Advanced and Higher\nVenue: Mission Acres\n34131 Township Road 262\, Cochrane AB T4C 1A2 \nClinic spots – limited availability – Early Bird $330/day til May 29\, 2026 then $360/day.\nAuditor spots available – pls inquire $30/day.   contact – info@thehorseranch.com – 250 789 3072 \n  \n 
URL:https://thehorseranch.com/event/horsemanship-clinic-mission-acres-cochrane-ab-3/
LOCATION:Mission Acres\, Cochrane AB
END:VEVENT
END:VCALENDAR