BEGIN:VCALENDAR
VERSION:2.0
PRODID:-//The Horse Ranch - ECPv6.0.1.1//NONSGML v1.0//EN
CALSCALE:GREGORIAN
METHOD:PUBLISH
X-WR-CALNAME:The Horse Ranch
X-ORIGINAL-URL:https://thehorseranch.com
X-WR-CALDESC:Events for The Horse Ranch
REFRESH-INTERVAL;VALUE=DURATION:PT1H
X-Robots-Tag:noindex
X-PUBLISHED-TTL:PT1H
BEGIN:VTIMEZONE
TZID:America/Toronto
BEGIN:DAYLIGHT
TZOFFSETFROM:-0500
TZOFFSETTO:-0400
TZNAME:EDT
DTSTART:20250309T070000
END:DAYLIGHT
BEGIN:STANDARD
TZOFFSETFROM:-0400
TZOFFSETTO:-0500
TZNAME:EST
DTSTART:20251102T060000
END:STANDARD
BEGIN:DAYLIGHT
TZOFFSETFROM:-0500
TZOFFSETTO:-0400
TZNAME:EDT
DTSTART:20260308T070000
END:DAYLIGHT
BEGIN:STANDARD
TZOFFSETFROM:-0400
TZOFFSETTO:-0500
TZNAME:EST
DTSTART:20261101T060000
END:STANDARD
TZID:America/Fort_Nelson
BEGIN:STANDARD
TZOFFSETFROM:-0700
TZOFFSETTO:-0700
TZNAME:MST
DTSTART:20260101T000000
END:STANDARD
END:VTIMEZONE
BEGIN:VEVENT
DTSTART;VALUE=DATE:20251208
DTEND;VALUE=DATE:20251220
DTSTAMP:20260420T181029
CREATED:20221201T193349Z
LAST-MODIFIED:20250721T193747Z
UID:43347-1765152000-1766188799@thehorseranch.com
SUMMARY:Winter Workshops - Front Row Seating - 10 Day Set
DESCRIPTION:These Winter Workshops are for those people wanting to take their Stages to the next level during the winter months. You will have the opportunity to add to your ‘tool box’ and advance your skills in our indoor arena. \nFront Row Seating is the opportunity to learn first-hand\, in a private setting directly from Glenn Stewart as he works a variety of horses at various stages through his Horse Development Program. He could be working with colts or putting the finishing touches on his top-level horses. \nThis is a unique opportunity – you will be able to watch and learn as Glenn is working and sharing with you what is happening in real-time. You will see his Stages program in action and how a variety of horses – at different levels of training – learn under his clear\, consistent guidance. \nWhether you choose to come and take in The Front Row Seating just to observe and learn\, or you decide to bring your own horse so you can practice your stages and what you’ve learned\, this is a unique learning experience to immerse yourself in. \n\nFront Row Seating is an awesome interactive learning opportunity unlike any other I have experienced. ⁣⁣\n⁣⁣\n“I have done camps\, clinics\, and auditing before\, but front row seating has been my favourite educational experience to date\, the opportunity to watch Glenn in his element\, with colts\, and with his own horses. In a very relaxed and enjoyable setting Glenn brings the stages to life and is able to show how they come together from start to finish. Which comes in handy when you have your own horse there working on the stages\, you can see and do\, and get guidance from Glenn.”⁣\n~ Blair Dyck\,  Hanley\, Saskatchewan – Front Row Seating participant\, 2019\n\nTo save your spot for the Winter Workshop – Front Row Seating at Glenn’s Ranch – get in touch today – 250 789 3072 or info@thehorseranch.com. \n  \n  \n  \n  \n  \n  \n  \n  \n  \n 
URL:https://thehorseranch.com/event/front-row-seating-3-10-day-set-2/
LOCATION:The Horse Ranch
END:VEVENT
BEGIN:VEVENT
DTSTART;TZID=America/Toronto:20251216T000000
DTEND;TZID=America/Toronto:20251216T235900
DTSTAMP:20260420T181029
CREATED:20220131T235204Z
LAST-MODIFIED:20251216T233201Z
UID:42466-1765843200-1765929540@thehorseranch.com
SUMMARY:High & Wild - Learning Holiday Adventure in the Rocky Mountains
DESCRIPTION:Get High & Wild\, on a wilderness safari that is!\nhttps://thehorseranch.com/wp-content/uploads/2021/04/HIGH-AND-WILD-2021.mp4\n\nJoin Glenn Stewart for his annual Learning Holiday Adventure in the Northern Rocky Mountains of British Columbia. The trip is the ultimate horsemanship experience in the vast unspoiled wilderness. Take your horsemanship to a new level under Glenn Stewart’s guidance. You will work with sturdy mountain horses in some of the most beautiful country you will ever see. The location\, the environment and horses will have you swimming in adventure and horsemanship learning opportunities! \n\nParticipants from all over the world come together to share in this annual experience\, an opportunity to put the horsemanship principles to purpose with true mountain bred horses in a magnificent wilderness setting. \n2026 dates pending\n10 day Learning Holiday Adventure $3650.00\nThis adventure departs from Fort St John\, BC\nTravel costs to Fort St John are the responsibility of participant \n  \nFees are in Canadian Dollars and subject to GST. Limited Spots open each year – they can book up fast!\nContact jim@thehorseranch.com (250.263.7417) to secure your spot!  
URL:https://thehorseranch.com/event/high-wild-learning-holiday-adventure-in-the-rocky-mountains-4/
LOCATION:The Rocky Mountains of Northern British Columbia
END:VEVENT
BEGIN:VEVENT
DTSTART;VALUE=DATE:20260127
DTEND;VALUE=DATE:20260207
DTSTAMP:20260420T181029
CREATED:20210326T183704Z
LAST-MODIFIED:20251202T213547Z
UID:21604-1769472000-1770422399@thehorseranch.com
SUMMARY:Costa Rica Learning Holiday Adventure
DESCRIPTION:This is the perfect mix of education\, adventure & luxury! Join Glenn Stewart for 2 days of Horsemanship clinics\, after which your journey begins with your Trek leader\, Jorge Sauma\, a local farmer and horse enthusiast whose extensive knowledge and connections will get you deep inside the real culture of Costa Rica for a truly authentic experience. The unbelievable meals\, well cared for and reliable horses with exceptionally smooth gaits\, incredible scenery and secluded beaches to gallop along are just a few of the highlights. \nThe trip will feature a variety of accommodations\, from Colonial Casonas to Mountain Lodges and Eco-retreats\, Jorge’s handpicked stays combine comfort\, character\, and authentic Caribbean charm. You will get to enjoy a beautiful boat trip\, ride to lakes\, cross a river\, ride around a farm and view a Costa Rican cattle operation. Visit an old railroad station and see Volcano Turrialba. Who knows you might be able to see the howler monkeys\, and other Costa Rican wildlife while visiting the accommodations or on your horseback treks. This surely will be a trip with lasting memories. \nFor more information contact:\nJorge Sauma \njorge@costaricaonhorseback.com\n+506 8334 – 0151\nwww.costaricaonhorseback.com \n  \n\n  \n 
URL:https://thehorseranch.com/event/costa-rica-learning-holiday-adventure/
END:VEVENT
BEGIN:VEVENT
DTSTART;VALUE=DATE:20260209
DTEND;VALUE=DATE:20260221
DTSTAMP:20260420T181029
CREATED:20221013T231313Z
LAST-MODIFIED:20251216T231616Z
UID:43281-1770595200-1771631999@thehorseranch.com
SUMMARY:Front Row Seating - 5 or 10 Day Set
DESCRIPTION:Front Row Seating is the opportunity to learn first-hand\, in a private setting directly from Glenn Stewart as he works a variety of horses at various stages through his Horse Development Program. He could be working with colts or putting the finishing touches on his top-level horses. \nThis is a unique opportunity – you will be able to watch and learn as Glenn is working and sharing with you what is happening in real-time. You will see his Stages program in action and how a variety of horses – at different levels of training – learn under his clear\, consistent guidance. \n\n“Front Row Seating is an awesome interactive learning opportunity unlike any other I have experienced. ⁣⁣\n⁣⁣\nI have done camps\, clinics\, and auditing before\, but front row seating has been my favorite educational experience to date\, the opportunity to watch Glenn in his element\, with colts\, and with his own horses. In a very relaxed and enjoyable setting Glenn brings the stages to life and is able to show how they come together from start to finish. Which comes in handy when you have your own horse there working on the stages\, you can see and do\, and get guidance from Glenn.”⁣\n~ Blair Dyck\,  Hanley\, Saskatchewan – Front Row Seating participant\, 2019\n\nYou will have the opportunity to ask questions throughout the day – getting the answers you need to improve your horsemanship directly from Glenn. You can choose to bring your own horse so you can practice what you’ve learned each session or observe and immerse yourself in this unique learning opportunity. \nTo save your spot for Front Row Seating at Glenn’s Ranch – get in touch today – 250 789 3072 or info@thehorseranch.com. \n  \n  \n  \n  \n  \n  \n  \n  \n  \n 
URL:https://thehorseranch.com/event/front-row-seating-10-day-set-10/
LOCATION:The Horse Ranch
END:VEVENT
BEGIN:VEVENT
DTSTART;VALUE=DATE:20260303
DTEND;VALUE=DATE:20260317
DTSTAMP:20260420T181029
CREATED:20221013T235625Z
LAST-MODIFIED:20260212T225906Z
UID:43290-1772496000-1773705599@thehorseranch.com
SUMMARY:Front Row Seating  - 10 Day Set
DESCRIPTION:Front Row Seating is the opportunity to learn first-hand\, in a private setting directly from Glenn Stewart as he works a variety of horses at various stages through his Horse Development Program. He could be working with colts or putting the finishing touches on his top-level horses – his Dream Team. \nThis is a unique opportunity – you will be able to watch and learn as Glenn is working and sharing with you what is happening in real-time. You will see his Stages program in action and how a variety of horses – at different levels of training – learn under his clear\, consistent guidance. \n\nFront Row Seating is an awesome interactive learning opportunity unlike any other I have experienced. ⁣⁣\n⁣⁣\nI have done camps\, clinics\, and auditing before\, but front row seating has been my favourite educational experience to date\, the opportunity to watch Glenn in his element\, with colts\, and with his own horses. In a very relaxed and enjoyable setting Glenn brings the stages to life and is able to show how they come together from start to finish. Which comes in handy when you have your own horse there working on the stages\, you can see and do\, and get guidance from Glenn.”⁣\n~ Blair Dyck\,  Hanley\, Saskatchewan – Front Row Seating participant\, 2019\n\nYou will have the opportunity to ask questions throughout the day – getting the answers you need to improve your horsemanship directly from Glenn. You can choose to bring your own horse so you can practice what you’ve learned each session or observe and immerse yourself in this unique learning opportunity. \nTo save your spot for Front Row Seating at Glenn’s Ranch – get in touch today – 250 789 3072 or info@thehorseranch.com. \n  \n  \n  \n  \n  \n  \n  \n  \n  \n 
URL:https://thehorseranch.com/event/front-row-seating-5-10-day-set/
LOCATION:The Horse Ranch
END:VEVENT
BEGIN:VEVENT
DTSTART;VALUE=DATE:20260417
DTEND;VALUE=DATE:20260421
DTSTAMP:20260420T181029
CREATED:20221013T235812Z
LAST-MODIFIED:20251114T220358Z
UID:43292-1776384000-1776729599@thehorseranch.com
SUMMARY:Horsemanship Clinic - Mission Acres - Cochrane AB
DESCRIPTION:April 17 – 18\, 2026 Stage 1 \nApril 19 – 20\, 2026  Horsemanship Workshop Stage 1 Advanced\nVenue: Mission Acres\n34131 Township Road 262\, Cochrane AB T4C 1A2 \nClinic spots – limited enrollment – $330/day until February 15\, 2026 then $360/day – click link and REGISTER NOW\nAuditor spots available – pls inquire $30/day\nContact – jim@thehorseranch.com – 250 263 7417. \n  \n 
URL:https://thehorseranch.com/event/horsemanship-clinic-mission-acres-cochrane-ab-6/
LOCATION:Mission Acres\, Cochrane AB
END:VEVENT
BEGIN:VEVENT
DTSTART;VALUE=DATE:20260507
DTEND;VALUE=DATE:20260512
DTSTAMP:20260420T181029
CREATED:20221014T005157Z
LAST-MODIFIED:20251030T230438Z
UID:43323-1778112000-1778543999@thehorseranch.com
SUMMARY:Horsemanship Clinic - Smithers BC
DESCRIPTION:May 7 – 8\, 2026  Stage 1 Clinic \nMay 9 – 11\, 2026   Advanced Workshop Clinic – Open to anyone who has done a previous Stage 1 clinic with Glenn Stewart\nPlease contact the clinic host to be a participant in the clinic or to audit \nHost contact Anika: 250-846-5494 or anikagattiker@outlook.com \n  \n 
URL:https://thehorseranch.com/event/horsemanship-clinic-smithers-bc-7/
LOCATION:Fairgounds\, Smithers\, BC
END:VEVENT
BEGIN:VEVENT
DTSTART;VALUE=DATE:20260524
DTEND;VALUE=DATE:20260604
DTSTAMP:20260420T181029
CREATED:20241031T231454Z
LAST-MODIFIED:20260116T220430Z
UID:44737-1779580800-1780531199@thehorseranch.com
SUMMARY:Young Horse Development
DESCRIPTION:In this 10 day program\, Glenn and his advanced/invited students work with their horses or horses brought to The Horse Ranch for development.  Under his guidance\, and using his Stages program\, Glenn’s students  get exposed to the aspects of colt starting where they will learn how to look at the overall work that is needed and the ways to fine tune the training they are providing to build a solid foundation for horse and rider. The students have the opportunity to work horses that have never been touched to ones that need further development. \nFor more information contact jim@thehorseranch.com or 250.263.7417
URL:https://thehorseranch.com/event/young-horse-development/
LOCATION:The Horse Ranch Baldonnel BC
END:VEVENT
BEGIN:VEVENT
DTSTART;TZID=America/Toronto:20260608T090000
DTEND;TZID=America/Toronto:20260612T170000
DTSTAMP:20260420T181029
CREATED:20221014T000530Z
LAST-MODIFIED:20250922T221459Z
UID:43296-1780909200-1781283600@thehorseranch.com
SUMMARY:Horsemanship Camp - Stage 1
DESCRIPTION:Being able to read horses is one of the greatest skills a horseman can have. It tells you what approach you need to take and helps you resolve problems quickly. Stage 1 is where ‘horse savvy’ begins\, creating a positive balance of trust and respect\, eliminating many common problems and safety issues. \nThe Camps give you an immersive setting at the ranch and help you develop a clear understanding of how to achieve respect and safety and give you a chance to put them to practice with hands-on help with Glenn. \nCamps are full days – starting at 9am-4:30pm with a 1.5 hour break. Students tell us what they learn in these Camps helps them move forward in their horsemanship in very concrete and practical ways – making gains faster and with less issues than anything else they’ve tried. When you attend the Camps you will learn how to work with your horse – or any horse – as your life with horses unfolds. \n2 easy ways to register:\n1. Simply click this link and fill out our Camp Application Form and in just a couple minutes you will be booked!\n2. Call us at 250.789.3072 and we can register you right over the phone. \nNext:\nBook your spot with a $320 non-refundable deposit\, balance due in full prior to Camp \nFee:\nRegular Rate Due May 01\, 2026: $1600 plus Facility fee and Accommodations (depending on your choice) Applicable taxes to be applied at invoicing.\nEarly Bird Rate Due February 15\, 2026: $1400 plus Facility fee and Accommodation (depending on your choice) Applicable taxes to be applied at invoicing.\nSummer Special Rate Due November 15\, 2025: $1200 plus Facility fee and Accommodations (depending on your choice) Applicable taxes to be applied at invoicing. \n  \nhttps://thehorseranch.com/wp-content/uploads/2021/07/Inspiration_Liberty-2016-Mane-Event.mp4\n 
URL:https://thehorseranch.com/event/horsemanship-camp-stage-1-2/
LOCATION:The Horse Ranch Baldonnel BC
END:VEVENT
BEGIN:VEVENT
DTSTART;TZID=America/Toronto:20260608T090000
DTEND;TZID=America/Toronto:20260710T170000
DTSTAMP:20260420T181029
CREATED:20221014T002833Z
LAST-MODIFIED:20250730T213854Z
UID:43313-1780909200-1783702800@thehorseranch.com
SUMMARY:Horsemanship Intensive - 25 days
DESCRIPTION:Get serious about your Horsemanship at the Horse Ranch. Guaranteed to make more progress in your Horsemanship in a month than most will make in a life time. On-line\, Liberty (groundwork)\, Freestyle and Finesse (in the saddle). Learn the 7 patterns and the 7 elements\, build your confidence and understanding of what horses need you to be.\nReserve your spot now and benefit from early bird discount. \nCamps are full days – starting at 9am-4:30pm with a 1.5 hour break. Students tell us what they learn in these Camps helps them move forward in their horsemanship in very concrete and practical ways – making gains faster and with less issues than anything else they’ve tried. When you attend the Camps you will learn how to work with your horse – or any horse – as your life with horses unfolds. \n2 easy ways to register:\n1. Simply click this link and fill out our Camp Application Form and in just a couple minutes you will be booked!\n2. Call us at 250.789.3072 and we can register you right over the phone. \nNext:\nBook your spot with a $500 non-refundable deposit\, balance due in full prior to Camp \nFee:\nRegular Rate Due May 01\, 2026: $7000 plus Facility fee and Accommodations (depending on your choice) Applicable taxes to be applied at invoicing.\nEarly Bird Rate Due February 15\, 2026: $6500 plus Facility fee and Accommodation (depending on your choice) Applicable taxes to be applied at invoicing.\nSummer Special Rate November 15\, 2025: $5500 plus Facility fee and Accommodation (depending on your choice) Applicable taxes to be applied at invoicing. \n  \n 
URL:https://thehorseranch.com/event/horsemanship-intensive-25-days/
LOCATION:The Horse Ranch Baldonnel BC
END:VEVENT
BEGIN:VEVENT
DTSTART;TZID=America/Toronto:20260615T090000
DTEND;TZID=America/Toronto:20260619T170000
DTSTAMP:20260420T181029
CREATED:20221014T000806Z
LAST-MODIFIED:20250730T214742Z
UID:43298-1781514000-1781888400@thehorseranch.com
SUMMARY:Horsemanship Camp - Advanced Stage 1 & 2
DESCRIPTION:This Camp is a fit for you once you’ve completed or are actively in progress working on Stage 1. It is also a fit if you are taking Stage 1 just prior to this Camp as many students take a few camps in a row to make the most of their time at The Horse Ranch. Glenn revisits what you learned in Stage 1 and then moves to the materials in Stage 2 of his Horse Development Program. \nThe partnership you are building – goes way beyond riding…you’ll develop respect and safety you need to have fun each and every time you work with your horse – or any horses for that matter. Stage 2 expands your comfort zone and keeps you moving on your horsemanship journey. Students tell us it has improved their connection with horses and their confidence getting them greater results more quickly than they anticipated! \nCamps are full days – starting at 9am-4:30pm with a 1.5 hour break. Students tell us what they learn in these Camps helps them move forward in their horsemanship in very concrete and practical ways – making gains faster and with less issues than anything else they’ve tried. When you attend the Camps you will learn how to work with your horse – or any horse – as your life with horses unfolds. \n2 easy ways to register:\n1. Simply click this link and fill out our Camp Application Form and in just a couple minutes you will be booked!\n2. Call us at 250.789.3072 and we can register you right over the phone. \nNext:\nBook your spot with a $320 non-refundable deposit\, balance due in full prior to Camp \nFee:\nRegular Rate Due May 01\, 2026: $1600 plus Facility fee and Accommodations (depending on your choice) Applicable taxes to be applied at invoicing.\nEarly Bird Rate Due February 15\, 2026: $1400 plus Facility fee and Accommodation (depending on your choice) Applicable taxes to be applied at invoicing.\nSummer Special Rate Due November 15\, 2025: $1200 plus Facility fee and Accommodation (depending on your choice) Applicable taxes to be applied at invoicing. \nhttps://thehorseranch.com/wp-content/uploads/2021/07/Inspiration_Emotiona-Mental-Fitness.mp4
URL:https://thehorseranch.com/event/horsemanship-camp-advanced-stage-1-2-2/
LOCATION:The Horse Ranch Baldonnel BC
END:VEVENT
BEGIN:VEVENT
DTSTART;TZID=America/Toronto:20260622T080000
DTEND;TZID=America/Toronto:20260626T170000
DTSTAMP:20260420T181029
CREATED:20221014T001753Z
LAST-MODIFIED:20250730T214847Z
UID:43309-1782115200-1782493200@thehorseranch.com
SUMMARY:Horsemanship Camp Stage 2 & 3
DESCRIPTION:Designed for students that have passed Stage 1. \nChallenge and advance on your skills on the ground\, check where you are at in your relationship with your horse at liberty. Fill your toolbox in the saddle with more exercises and learn how to be creative in your horsemanship as you learn to encourage positive reflexes. \nCamps are full days – starting at 9am-4:30pm with a 1.5 hour break. Students tell us what they learn in these Camps helps them move forward in their horsemanship in very concrete and practical ways – making gains faster and with less issues than anything else they’ve tried. When you attend the Camps you will learn how to work with your horse – or any horse – as your life with horses unfolds. \n2 easy ways to register:\n1. Simply click this link and fill out our Camp Application Form and in just a couple minutes you will be booked!\n2. Call us at 250.789.3072 and we can register you right over the phone. \nNext:\nBook your spot with a $320 non-refundable deposit\, balance due in full prior to Camp \nFee:\nRegular Rate Due May 01\, 2026: $1600 plus Facility fee and Accommodations (depending on your choice) Applicable taxes to be applied at invoicing.\nEarly Bird Rate Due February 15\, 2026: $1400 plus Facility fee and Accommodation (depending on your choice) Applicable taxes to be applied at invoicing.\nSummer Special Rate Due November 15\, 2025: $1200 plus Facility fee and Accommodation (depending on your choice) Applicable taxes to be applied at invoicing. \n 
URL:https://thehorseranch.com/event/horsemanship-camp-stage-2-3-2/
LOCATION:The Horse Ranch Baldonnel BC
END:VEVENT
BEGIN:VEVENT
DTSTART;TZID=America/Toronto:20260629T090000
DTEND;TZID=America/Toronto:20260710T170000
DTSTAMP:20260420T181029
CREATED:20210723T191313Z
LAST-MODIFIED:20250730T215037Z
UID:25221-1782723600-1783702800@thehorseranch.com
SUMMARY:Horsemanship Progressive - 10 Days of Pure Focus
DESCRIPTION:Designed for students serious about their Horsemanship\, the camp builds on what you have learned in Glenn’s Stages 1\,2 and 3 programs. \nThe Horsemanship Intensive is a 10 day long learning opportunity that students return to year after year. You’ll check in on the progress you’ve made in prior camps and clinics and focus on your goals and the milestones you want to achieve in horsemanship. \nStudents that attend the intensive year over year share how it’s changed their approach\, opened doors they couldn’t even have imagined and is something they look forward to! We think they share it best: \n  \nMany folks add the progressive to previous camps or take the full 25 days really advancing in their horsemanship in a compressed timeframe. \nCamps are full days – starting at 9am-4:30pm with a 1.5 hour break. Students tell us what they learn in these Camps helps them move forward in their horsemanship in very concrete and practical ways – making gains faster and with less issues than anything else they’ve tried. When you attend the Camps you will learn how to work with your horse – or any horse – as your life with horses unfolds. \n2 easy ways to register:\n1. Simply click this link and fill out our Camp Application Form and in just a couple minutes you will be booked!\n2. Call us at 250.789.3072 and we can register you right over the phone. \nNext:\nBook your spot with a $320/week non-refundable deposit\, balance due in full prior to Camp \nFee:\nRegular Rate Due May 01\, 2026: $1600/week plus Facility fee and Accommodations (depending on your choice) Applicable taxes to be applied at invoicing.\nEarly Bird Rate Due February 15\, 2026: $1400/week plus Facility fee and Accommodation (depending on your choice) Applicable taxes to be applied at invoicing.\nSummer Special Rate Due November 15\, 2025 : $1200/week plus Facility fee and Accommodation (depending on your choice) Applicable taxes to be applied at invoicing. \n  \n 
URL:https://thehorseranch.com/event/horsemanship-intensive-8-days-of-pure-focus/
END:VEVENT
BEGIN:VEVENT
DTSTART;TZID=America/Fort_Nelson:20260820T090000
DTEND;TZID=America/Fort_Nelson:20260825T170000
DTSTAMP:20260420T181029
CREATED:20221014T011749Z
LAST-MODIFIED:20251216T225717Z
UID:43322-1787216400-1787677200@thehorseranch.com
SUMMARY:Horsemanship Clinic - Horsefly\, BC
DESCRIPTION:August 20 – 21\, 2026 Stage 1\nAugust 22 – 25\, 2026 Stage 1 Advanced and Stage 2 \nPlease contact clinic host to be a participant in the clinic or to audit. \nHost Contacts:  Call or text Kendra at 250.392.2454 or email kendradrebit@outlook.com\nCall or text Bo at 250.255.0972 or email bodaga017@gmail.com
URL:https://thehorseranch.com/event/horsemanship-clinic-horsefly-bc/
LOCATION:Rainwood Meadows
END:VEVENT
END:VCALENDAR