BEGIN:VCALENDAR
VERSION:2.0
PRODID:-//The Horse Ranch - ECPv6.0.1.1//NONSGML v1.0//EN
CALSCALE:GREGORIAN
METHOD:PUBLISH
X-ORIGINAL-URL:https://thehorseranch.com
X-WR-CALDESC:Events for The Horse Ranch
REFRESH-INTERVAL;VALUE=DURATION:PT1H
X-Robots-Tag:noindex
X-PUBLISHED-TTL:PT1H
BEGIN:VTIMEZONE
TZID:America/Fort_Nelson
BEGIN:STANDARD
TZOFFSETFROM:-0700
TZOFFSETTO:-0700
TZNAME:MST
DTSTART:20260101T000000
END:STANDARD
END:VTIMEZONE
BEGIN:VEVENT
DTSTART;VALUE=DATE:20260507
DTEND;VALUE=DATE:20260512
DTSTAMP:20260420T084029
CREATED:20221014T005157Z
LAST-MODIFIED:20251030T230438Z
UID:43323-1778112000-1778543999@thehorseranch.com
SUMMARY:Horsemanship Clinic - Smithers BC
DESCRIPTION:May 7 – 8\, 2026  Stage 1 Clinic \nMay 9 – 11\, 2026   Advanced Workshop Clinic – Open to anyone who has done a previous Stage 1 clinic with Glenn Stewart\nPlease contact the clinic host to be a participant in the clinic or to audit \nHost contact Anika: 250-846-5494 or anikagattiker@outlook.com \n  \n 
URL:https://thehorseranch.com/event/horsemanship-clinic-smithers-bc-7/
LOCATION:Fairgounds\, Smithers\, BC
END:VEVENT
END:VCALENDAR