BEGIN:VCALENDAR
VERSION:2.0
PRODID:-//The Horse Ranch - ECPv6.0.1.1//NONSGML v1.0//EN
CALSCALE:GREGORIAN
METHOD:PUBLISH
X-WR-CALNAME:The Horse Ranch
X-ORIGINAL-URL:https://thehorseranch.com
X-WR-CALDESC:Events for The Horse Ranch
REFRESH-INTERVAL;VALUE=DURATION:PT1H
X-Robots-Tag:noindex
X-PUBLISHED-TTL:PT1H
BEGIN:VTIMEZONE
TZID:America/Toronto
BEGIN:DAYLIGHT
TZOFFSETFROM:-0500
TZOFFSETTO:-0400
TZNAME:EDT
DTSTART:20260308T070000
END:DAYLIGHT
BEGIN:STANDARD
TZOFFSETFROM:-0400
TZOFFSETTO:-0500
TZNAME:EST
DTSTART:20261101T060000
END:STANDARD
END:VTIMEZONE
BEGIN:VEVENT
DTSTART;VALUE=DATE:20260127
DTEND;VALUE=DATE:20260207
DTSTAMP:20260420T101722
CREATED:20210326T183704Z
LAST-MODIFIED:20251202T213547Z
UID:21604-1769472000-1770422399@thehorseranch.com
SUMMARY:Costa Rica Learning Holiday Adventure
DESCRIPTION:This is the perfect mix of education\, adventure & luxury! Join Glenn Stewart for 2 days of Horsemanship clinics\, after which your journey begins with your Trek leader\, Jorge Sauma\, a local farmer and horse enthusiast whose extensive knowledge and connections will get you deep inside the real culture of Costa Rica for a truly authentic experience. The unbelievable meals\, well cared for and reliable horses with exceptionally smooth gaits\, incredible scenery and secluded beaches to gallop along are just a few of the highlights. \nThe trip will feature a variety of accommodations\, from Colonial Casonas to Mountain Lodges and Eco-retreats\, Jorge’s handpicked stays combine comfort\, character\, and authentic Caribbean charm. You will get to enjoy a beautiful boat trip\, ride to lakes\, cross a river\, ride around a farm and view a Costa Rican cattle operation. Visit an old railroad station and see Volcano Turrialba. Who knows you might be able to see the howler monkeys\, and other Costa Rican wildlife while visiting the accommodations or on your horseback treks. This surely will be a trip with lasting memories. \nFor more information contact:\nJorge Sauma \njorge@costaricaonhorseback.com\n+506 8334 – 0151\nwww.costaricaonhorseback.com \n  \n\n  \n 
URL:https://thehorseranch.com/event/costa-rica-learning-holiday-adventure/
END:VEVENT
END:VCALENDAR