BEGIN:VCALENDAR
VERSION:2.0
PRODID:-//The Horse Ranch - ECPv6.0.1.1//NONSGML v1.0//EN
CALSCALE:GREGORIAN
METHOD:PUBLISH
X-ORIGINAL-URL:https://thehorseranch.com
X-WR-CALDESC:Events for The Horse Ranch
REFRESH-INTERVAL;VALUE=DURATION:PT1H
X-Robots-Tag:noindex
X-PUBLISHED-TTL:PT1H
BEGIN:VTIMEZONE
TZID:America/Vancouver
BEGIN:DAYLIGHT
TZOFFSETFROM:-0800
TZOFFSETTO:-0700
TZNAME:PDT
DTSTART:20250309T100000
END:DAYLIGHT
BEGIN:STANDARD
TZOFFSETFROM:-0700
TZOFFSETTO:-0800
TZNAME:PST
DTSTART:20251102T090000
END:STANDARD
END:VTIMEZONE
BEGIN:VEVENT
DTSTART;VALUE=DATE:20250516
DTEND;VALUE=DATE:20250520
DTSTAMP:20260420T233036
CREATED:20190401T193907Z
LAST-MODIFIED:20250109T213139Z
UID:794-1747353600-1747699199@thehorseranch.com
SUMMARY:Stage 1 Horsemanship Clinic Lumby BC
DESCRIPTION:Stage 1 Horsemanship Clinic \nThis Clinic is open to those who want to start or refine Partnership with their horse using Glenn’s Stage 1 program. Focus will be on understanding the principles of horsemanship using the 7 patterns.  Build your and your horses confidence on the ground and in the saddle. This clinic is intended to get you started and help you continue your horsemanship through Glenn’s stages program. \nFor more information or to book as a Participant or an Auditor please contact Clinic Host Darlene Wolney: 250.309.3544 or timberridgetrails@gmail.com \n 
URL:https://thehorseranch.com/event/stage-1-horsemanship-clinic-lumby-bc/
LOCATION:Timber Ridge Trails
END:VEVENT
END:VCALENDAR