BEGIN:VCALENDAR
VERSION:2.0
PRODID:-//The Horse Ranch - ECPv6.0.1.1//NONSGML v1.0//EN
CALSCALE:GREGORIAN
METHOD:PUBLISH
X-WR-CALNAME:The Horse Ranch
X-ORIGINAL-URL:https://thehorseranch.com
X-WR-CALDESC:Events for The Horse Ranch
REFRESH-INTERVAL;VALUE=DURATION:PT1H
X-Robots-Tag:noindex
X-PUBLISHED-TTL:PT1H
BEGIN:VTIMEZONE
TZID:America/Vancouver
BEGIN:DAYLIGHT
TZOFFSETFROM:-0800
TZOFFSETTO:-0700
TZNAME:PDT
DTSTART:20250309T100000
END:DAYLIGHT
BEGIN:STANDARD
TZOFFSETFROM:-0700
TZOFFSETTO:-0800
TZNAME:PST
DTSTART:20251102T090000
END:STANDARD
END:VTIMEZONE
BEGIN:VEVENT
DTSTART;VALUE=DATE:20250508
DTEND;VALUE=DATE:20250512
DTSTAMP:20260420T233024
CREATED:20231102T231547Z
LAST-MODIFIED:20250306T230625Z
UID:43538-1746662400-1747007999@thehorseranch.com
SUMMARY:Horsemanship Clinic - Quesnel BC
DESCRIPTION:May 8 – 11\, 2025 Stage 1 Clinic\nBouchie Lake Community Hall 1975 Centennial Rd\, Quesnel BC\nTo book your spot as a participant or auditor contact – Bo 250.255.0972
URL:https://thehorseranch.com/event/horsemanship-clinic-quesnel-bc/
END:VEVENT
END:VCALENDAR