BEGIN:VCALENDAR
VERSION:2.0
PRODID:-//The Horse Ranch - ECPv6.0.1.1//NONSGML v1.0//EN
CALSCALE:GREGORIAN
METHOD:PUBLISH
X-ORIGINAL-URL:https://thehorseranch.com
X-WR-CALDESC:Events for The Horse Ranch
REFRESH-INTERVAL;VALUE=DURATION:PT1H
X-Robots-Tag:noindex
X-PUBLISHED-TTL:PT1H
BEGIN:VTIMEZONE
TZID:America/Fort_Nelson
BEGIN:STANDARD
TZOFFSETFROM:-0700
TZOFFSETTO:-0700
TZNAME:MST
DTSTART:20250101T000000
END:STANDARD
END:VTIMEZONE
BEGIN:VEVENT
DTSTART;VALUE=DATE:20250501
DTEND;VALUE=DATE:20250506
DTSTAMP:20260420T233035
CREATED:20221014T000041Z
LAST-MODIFIED:20240911T221058Z
UID:43226-1746057600-1746489599@thehorseranch.com
SUMMARY:Horsemanship Clinic - Smithers BC
DESCRIPTION:May 1 & 2\, 2025: Stage 1 \nMay 3 – 5\, 2025 Workshop: Advanced workshop clinic \nHost Contact Anika to book as a participant or to audit the clinic: Anika.gattiker@outlook.com \n  \n  \n 
URL:https://thehorseranch.com/event/horsemanship-clinic-smithers-bc-6/
END:VEVENT
END:VCALENDAR